Package: FlowSorted.Blood.450k Version: 1.47.0 Command: /home/biocbuild/bbs-3.22-bioc/R/bin/R CMD build --keep-empty-dirs --no-resave-data FlowSorted.Blood.450k StartedAt: 2025-07-03 11:18:15 -0400 (Thu, 03 Jul 2025) EndedAt: 2025-07-03 11:19:42 -0400 (Thu, 03 Jul 2025) EllapsedTime: 86.9 seconds RetCode: 0 Status: OK PackageFile: FlowSorted.Blood.450k_1.47.0.tar.gz PackageFileSize: 167.8 MiB