Package: FieldEffectCrc Version: 1.19.0 Command: /home/biocbuild/bbs-3.22-bioc/R/bin/R CMD INSTALL FieldEffectCrc StartedAt: 2025-07-03 11:00:02 -0400 (Thu, 03 Jul 2025) EndedAt: 2025-07-03 11:00:34 -0400 (Thu, 03 Jul 2025) EllapsedTime: 31.9 seconds RetCode: 0 Status: OK