Package: DuoClustering2018 Version: 1.27.0 Command: /home/biocbuild/bbs-3.22-bioc/R/bin/R CMD INSTALL DuoClustering2018 StartedAt: 2025-07-03 10:56:37 -0400 (Thu, 03 Jul 2025) EndedAt: 2025-07-03 10:56:47 -0400 (Thu, 03 Jul 2025) EllapsedTime: 10.9 seconds RetCode: 0 Status: OK