Package: DuoClustering2018 Version: 1.27.0 Command: /home/biocbuild/bbs-3.22-bioc/R/bin/R CMD build --keep-empty-dirs --no-resave-data DuoClustering2018 StartedAt: 2025-07-03 11:16:17 -0400 (Thu, 03 Jul 2025) EndedAt: 2025-07-03 11:17:57 -0400 (Thu, 03 Jul 2025) EllapsedTime: 100.0 seconds RetCode: 0 Status: OK PackageFile: DuoClustering2018_1.27.0.tar.gz PackageFileSize: 2.209 MiB