Package: CopyNeutralIMA Version: 1.27.0 Command: /home/biocbuild/bbs-3.22-bioc/R/bin/R CMD INSTALL CopyNeutralIMA StartedAt: 2025-07-03 11:04:07 -0400 (Thu, 03 Jul 2025) EndedAt: 2025-07-03 11:04:26 -0400 (Thu, 03 Jul 2025) EllapsedTime: 19.3 seconds RetCode: 0 Status: OK