Package: ChimpHumanBrainData Version: 1.47.0 Command: /home/biocbuild/bbs-3.22-bioc/R/bin/R CMD build --keep-empty-dirs --no-resave-data ChimpHumanBrainData StartedAt: 2025-07-10 11:10:15 -0400 (Thu, 10 Jul 2025) EndedAt: 2025-07-10 11:10:59 -0400 (Thu, 10 Jul 2025) EllapsedTime: 44.6 seconds RetCode: 0 Status: OK PackageFile: ChimpHumanBrainData_1.47.0.tar.gz PackageFileSize: 65.04 MiB