Package: ChIPexoQualExample Version: 1.33.0 Command: /home/biocbuild/bbs-3.22-bioc/R/bin/R CMD INSTALL ChIPexoQualExample StartedAt: 2025-07-03 10:55:31 -0400 (Thu, 03 Jul 2025) EndedAt: 2025-07-03 10:55:33 -0400 (Thu, 03 Jul 2025) EllapsedTime: 1.4 seconds RetCode: 0 Status: OK