Package: ChIPXpressData Version: 1.47.0 Command: /home/biocbuild/bbs-3.22-bioc/R/bin/R CMD build --keep-empty-dirs --no-resave-data ChIPXpressData StartedAt: 2025-07-03 11:10:15 -0400 (Thu, 03 Jul 2025) EndedAt: 2025-07-03 11:15:24 -0400 (Thu, 03 Jul 2025) EllapsedTime: 308.3 seconds RetCode: 0 Status: OK PackageFile: ChIPXpressData_1.47.0.tar.gz PackageFileSize: 3.171 GiB