Package: CellMapperData Version: 1.35.0 Command: /home/biocbuild/bbs-3.22-bioc/R/bin/R CMD build --keep-empty-dirs --no-resave-data CellMapperData StartedAt: 2025-07-03 11:09:36 -0400 (Thu, 03 Jul 2025) EndedAt: 2025-07-03 11:10:01 -0400 (Thu, 03 Jul 2025) EllapsedTime: 24.9 seconds RetCode: 0 Status: OK PackageFile: CellMapperData_1.35.0.tar.gz PackageFileSize: 145.8 KiB