Package: CardinalWorkflows Version: 1.41.0 Command: /home/biocbuild/bbs-3.22-bioc/R/bin/R CMD INSTALL CardinalWorkflows StartedAt: 2025-07-03 10:57:49 -0400 (Thu, 03 Jul 2025) EndedAt: 2025-07-03 10:58:01 -0400 (Thu, 03 Jul 2025) EllapsedTime: 12.2 seconds RetCode: 0 Status: OK