Package: CardinalWorkflows Version: 1.41.0 Command: /home/biocbuild/bbs-3.22-bioc/R/bin/R CMD build --keep-empty-dirs --no-resave-data CardinalWorkflows StartedAt: 2025-07-03 11:09:01 -0400 (Thu, 03 Jul 2025) EndedAt: 2025-07-03 11:58:09 -0400 (Thu, 03 Jul 2025) EllapsedTime: 2948.0 seconds RetCode: 0 Status: OK PackageFile: CardinalWorkflows_1.41.0.tar.gz PackageFileSize: 53.52 MiB