Package: CRCL18 Version: 1.29.0 Command: /home/biocbuild/bbs-3.22-bioc/R/bin/R CMD build --keep-empty-dirs --no-resave-data CRCL18 StartedAt: 2025-07-10 11:12:01 -0400 (Thu, 10 Jul 2025) EndedAt: 2025-07-10 11:12:08 -0400 (Thu, 10 Jul 2025) EllapsedTime: 6.4 seconds RetCode: 0 Status: OK PackageFile: CRCL18_1.29.0.tar.gz PackageFileSize: 2.46 MiB