Package: COSMIC.67 Version: 1.45.0 Command: /home/biocbuild/bbs-3.22-bioc/R/bin/R CMD INSTALL COSMIC.67 StartedAt: 2025-07-03 11:03:53 -0400 (Thu, 03 Jul 2025) EndedAt: 2025-07-03 11:04:32 -0400 (Thu, 03 Jul 2025) EllapsedTime: 39.0 seconds RetCode: 0 Status: OK