Package: COSMIC.67 Version: 1.45.0 Command: /home/biocbuild/bbs-3.22-bioc/R/bin/R CMD build --keep-empty-dirs --no-resave-data COSMIC.67 StartedAt: 2025-07-03 11:11:48 -0400 (Thu, 03 Jul 2025) EndedAt: 2025-07-03 11:12:52 -0400 (Thu, 03 Jul 2025) EllapsedTime: 64.0 seconds RetCode: 0 Status: OK PackageFile: COSMIC.67_1.45.0.tar.gz PackageFileSize: 39.18 MiB