Package: BeadArrayUseCases Version: 1.47.0 Command: /home/biocbuild/bbs-3.22-bioc/R/bin/R CMD INSTALL BeadArrayUseCases StartedAt: 2025-07-03 10:59:25 -0400 (Thu, 03 Jul 2025) EndedAt: 2025-07-03 10:59:46 -0400 (Thu, 03 Jul 2025) EllapsedTime: 21.4 seconds RetCode: 0 Status: OK