Package: BeadArrayUseCases Version: 1.47.0 Command: /home/biocbuild/bbs-3.22-bioc/R/bin/R CMD build --keep-empty-dirs --no-resave-data BeadArrayUseCases StartedAt: 2025-07-03 11:08:04 -0400 (Thu, 03 Jul 2025) EndedAt: 2025-07-03 11:15:34 -0400 (Thu, 03 Jul 2025) EllapsedTime: 450.3 seconds RetCode: 0 Status: OK PackageFile: BeadArrayUseCases_1.47.0.tar.gz PackageFileSize: 197.6 MiB