Package: AssessORFData Version: 1.27.0 Command: /home/biocbuild/bbs-3.22-bioc/R/bin/R CMD INSTALL AssessORFData StartedAt: 2025-07-03 10:56:35 -0400 (Thu, 03 Jul 2025) EndedAt: 2025-07-03 10:57:18 -0400 (Thu, 03 Jul 2025) EllapsedTime: 42.6 seconds RetCode: 0 Status: OK