Package: AssessORFData Version: 1.27.0 Command: /home/biocbuild/bbs-3.22-bioc/R/bin/R CMD build --keep-empty-dirs --no-resave-data AssessORFData StartedAt: 2025-07-03 11:07:59 -0400 (Thu, 03 Jul 2025) EndedAt: 2025-07-03 11:09:35 -0400 (Thu, 03 Jul 2025) EllapsedTime: 96.0 seconds RetCode: 0 Status: OK PackageFile: AssessORFData_1.27.0.tar.gz PackageFileSize: 144.6 MiB