Package: AmpAffyExample Version: 1.49.0 Command: /home/biocbuild/bbs-3.22-bioc/R/bin/R CMD INSTALL AmpAffyExample StartedAt: 2025-07-03 10:56:24 -0400 (Thu, 03 Jul 2025) EndedAt: 2025-07-03 10:56:28 -0400 (Thu, 03 Jul 2025) EllapsedTime: 3.8 seconds RetCode: 0 Status: OK