Package: AffymetrixDataTestFiles Version: 0.47.0 Command: /home/biocbuild/bbs-3.22-bioc/R/bin/R CMD INSTALL AffymetrixDataTestFiles StartedAt: 2025-07-03 10:55:48 -0400 (Thu, 03 Jul 2025) EndedAt: 2025-07-03 10:55:50 -0400 (Thu, 03 Jul 2025) EllapsedTime: 1.7 seconds RetCode: 0 Status: OK