Package: AffymetrixDataTestFiles Version: 0.47.0 Command: /home/biocbuild/bbs-3.22-bioc/R/bin/R CMD build --keep-empty-dirs --no-resave-data AffymetrixDataTestFiles StartedAt: 2025-07-03 11:07:48 -0400 (Thu, 03 Jul 2025) EndedAt: 2025-07-03 11:08:53 -0400 (Thu, 03 Jul 2025) EllapsedTime: 65.6 seconds RetCode: 0 Status: OK PackageFile: AffymetrixDataTestFiles_0.47.0.tar.gz PackageFileSize: 38.84 MiB