Package: zlibbioc Version: 1.55.0 Command: /home/rapidbuild/bbs-3.22-bioc-rapid/R/bin/R CMD build --keep-empty-dirs --no-resave-data zlibbioc StartedAt: 2025-05-21 13:39:49 -0400 (Wed, 21 May 2025) EndedAt: 2025-05-21 13:39:53 -0400 (Wed, 21 May 2025) EllapsedTime: 4.0 seconds RetCode: 0 Status: OK PackageFile: zlibbioc_1.55.0.tar.gz PackageFileSize: 373.8 KiB