Package: xcms Version: 4.7.1 Command: /home/rapidbuild/bbs-3.22-bioc-rapid/R/bin/R CMD INSTALL xcms StartedAt: 2025-06-17 18:26:14 -0400 (Tue, 17 Jun 2025) EndedAt: 2025-06-17 18:27:41 -0400 (Tue, 17 Jun 2025) EllapsedTime: 86.9 seconds RetCode: 0 Status: OK