Package: xcms Version: 4.7.1 Command: /home/rapidbuild/bbs-3.22-bioc-rapid/R/bin/R CMD build --keep-empty-dirs --no-resave-data xcms StartedAt: 2025-06-17 19:46:22 -0400 (Tue, 17 Jun 2025) EndedAt: 2025-06-17 19:50:20 -0400 (Tue, 17 Jun 2025) EllapsedTime: 238.7 seconds RetCode: 0 Status: OK PackageFile: xcms_4.7.1.tar.gz PackageFileSize: 9.138 MiB