Package: xcms Version: 4.7.1 Maintainer: Steffen Neumann MaintainerEmail: sneumann at ipb-halle.de git_url: https://git.bioconductor.org/packages/xcms git_branch: devel git_last_commit: f8fa7f30 git_last_commit_date: 2025-05-26 09:13:16 -0400 (Mon, 26 May 2025)