Package: widgetTools Version: 1.87.0 Command: /home/rapidbuild/bbs-3.22-bioc-rapid/R/bin/R CMD build --keep-empty-dirs --no-resave-data widgetTools StartedAt: 2025-06-17 19:45:48 -0400 (Tue, 17 Jun 2025) EndedAt: 2025-06-17 19:45:54 -0400 (Tue, 17 Jun 2025) EllapsedTime: 6.0 seconds RetCode: 0 Status: OK PackageFile: widgetTools_1.87.0.tar.gz PackageFileSize: 227.1 KiB