Package: treeio Version: 1.33.0 Command: /home/rapidbuild/bbs-3.22-bioc-rapid/R/bin/R CMD INSTALL treeio StartedAt: 2025-06-17 18:15:37 -0400 (Tue, 17 Jun 2025) EndedAt: 2025-06-17 18:15:43 -0400 (Tue, 17 Jun 2025) EllapsedTime: 6.0 seconds RetCode: 0 Status: OK