Package: treeio Version: 1.33.0 Command: /home/rapidbuild/bbs-3.22-bioc-rapid/R/bin/R CMD build --keep-empty-dirs --no-resave-data treeio StartedAt: 2025-06-17 19:43:33 -0400 (Tue, 17 Jun 2025) EndedAt: 2025-06-17 19:43:40 -0400 (Tue, 17 Jun 2025) EllapsedTime: 7.0 seconds RetCode: 0 Status: OK PackageFile: treeio_1.33.0.tar.gz PackageFileSize: 678.7 KiB