Package: treeio Version: 1.33.0 Maintainer: Guangchuang Yu MaintainerEmail: guangchuangyu at gmail.com git_url: https://git.bioconductor.org/packages/treeio git_branch: devel git_last_commit: dc61491 git_last_commit_date: 2025-04-15 11:07:49 -0400 (Tue, 15 Apr 2025)