Package: sparseMatrixStats Version: 1.21.0 Command: /home/rapidbuild/bbs-3.22-bioc-rapid/R/bin/R CMD build --keep-empty-dirs --no-resave-data sparseMatrixStats StartedAt: 2025-06-17 19:41:19 -0400 (Tue, 17 Jun 2025) EndedAt: 2025-06-17 19:41:49 -0400 (Tue, 17 Jun 2025) EllapsedTime: 30.6 seconds RetCode: 0 Status: OK PackageFile: sparseMatrixStats_1.21.0.tar.gz PackageFileSize: 687.7 KiB