Package: sparseMatrixStats Version: 1.21.0 Maintainer: Constantin Ahlmann-Eltze MaintainerEmail: artjom31415 at googlemail.com git_url: https://git.bioconductor.org/packages/sparseMatrixStats git_branch: devel git_last_commit: 3933eee git_last_commit_date: 2025-04-15 11:56:38 -0400 (Tue, 15 Apr 2025)