Package: scuttle Version: 1.19.0 Command: /home/rapidbuild/bbs-3.22-bioc-rapid/R/bin/R CMD INSTALL scuttle StartedAt: 2025-06-17 18:19:22 -0400 (Tue, 17 Jun 2025) EndedAt: 2025-06-17 18:20:20 -0400 (Tue, 17 Jun 2025) EllapsedTime: 58.1 seconds RetCode: 0 Status: OK