Package: scuttle Version: 1.19.0 Command: /home/rapidbuild/bbs-3.22-bioc-rapid/R/bin/R CMD build --keep-empty-dirs --no-resave-data scuttle StartedAt: 2025-06-17 19:35:36 -0400 (Tue, 17 Jun 2025) EndedAt: 2025-06-17 19:37:50 -0400 (Tue, 17 Jun 2025) EllapsedTime: 134.7 seconds RetCode: 0 Status: OK PackageFile: scuttle_1.19.0.tar.gz PackageFileSize: 1007 KiB