Package: scran Version: 1.37.0 Command: /home/rapidbuild/bbs-3.22-bioc-rapid/R/bin/R CMD build --keep-empty-dirs --no-resave-data scran StartedAt: 2025-06-17 19:34:25 -0400 (Tue, 17 Jun 2025) EndedAt: 2025-06-17 19:37:14 -0400 (Tue, 17 Jun 2025) EllapsedTime: 168.7 seconds RetCode: 0 Status: OK PackageFile: scran_1.37.0.tar.gz PackageFileSize: 1.758 MiB