Package: preprocessCore Version: 1.71.0 Command: /home/rapidbuild/bbs-3.22-bioc-rapid/R/bin/R CMD INSTALL preprocessCore StartedAt: 2025-06-17 18:09:00 -0400 (Tue, 17 Jun 2025) EndedAt: 2025-06-17 18:09:11 -0400 (Tue, 17 Jun 2025) EllapsedTime: 11.0 seconds RetCode: 0 Status: OK