Package: preprocessCore Version: 1.71.0 Command: /home/rapidbuild/bbs-3.22-bioc-rapid/R/bin/R CMD build --keep-empty-dirs --no-resave-data preprocessCore StartedAt: 2025-06-17 19:22:02 -0400 (Tue, 17 Jun 2025) EndedAt: 2025-06-17 19:22:03 -0400 (Tue, 17 Jun 2025) EllapsedTime: 1.0 seconds RetCode: 0 Status: OK PackageFile: preprocessCore_1.71.0.tar.gz PackageFileSize: 121.2 KiB