Package: preprocessCore Version: 1.71.0 Maintainer: Ben Bolstad MaintainerEmail: bmb at bmbolstad.com git_url: https://git.bioconductor.org/packages/preprocessCore git_branch: devel git_last_commit: 78b67ba git_last_commit_date: 2025-04-15 09:16:02 -0400 (Tue, 15 Apr 2025)