Package: pcaMethods Version: 2.1.0 Command: /home/rapidbuild/bbs-3.22-bioc-rapid/R/bin/R CMD INSTALL pcaMethods StartedAt: 2025-06-17 18:10:41 -0400 (Tue, 17 Jun 2025) EndedAt: 2025-06-17 18:10:53 -0400 (Tue, 17 Jun 2025) EllapsedTime: 11.5 seconds RetCode: 0 Status: OK