Package: pcaMethods Version: 2.1.0 Command: /home/rapidbuild/bbs-3.22-bioc-rapid/R/bin/R CMD build --keep-empty-dirs --no-resave-data pcaMethods StartedAt: 2025-06-17 19:21:30 -0400 (Tue, 17 Jun 2025) EndedAt: 2025-06-17 19:22:43 -0400 (Tue, 17 Jun 2025) EllapsedTime: 72.9 seconds RetCode: 0 Status: OK PackageFile: pcaMethods_2.1.0.tar.gz PackageFileSize: 1016 KiB