Package: ncdfFlow Version: 2.55.0 Maintainer: Mike Jiang MaintainerEmail: mike at ozette.com git_url: https://git.bioconductor.org/packages/ncdfFlow git_branch: devel git_last_commit: c968b1a git_last_commit_date: 2025-04-15 10:11:30 -0400 (Tue, 15 Apr 2025)