Package: microRNA Version: 1.67.0 Maintainer: "Michael Lawrence" MaintainerEmail: michafla at gene.com git_url: https://git.bioconductor.org/packages/microRNA git_branch: devel git_last_commit: b944c79 git_last_commit_date: 2025-04-15 09:43:04 -0400 (Tue, 15 Apr 2025)