Package: interactiveDisplayBase Version: 1.47.0 Command: /home/rapidbuild/bbs-3.22-bioc-rapid/R/bin/R CMD build --keep-empty-dirs --no-resave-data interactiveDisplayBase StartedAt: 2025-06-17 19:09:46 -0400 (Tue, 17 Jun 2025) EndedAt: 2025-06-17 19:09:50 -0400 (Tue, 17 Jun 2025) EllapsedTime: 4.0 seconds RetCode: 0 Status: OK PackageFile: interactiveDisplayBase_1.47.0.tar.gz PackageFileSize: 7.975 KiB