Package: interactiveDisplay Version: 1.47.0 Command: /home/rapidbuild/bbs-3.22-bioc-rapid/R/bin/R CMD INSTALL interactiveDisplay StartedAt: 2025-06-17 18:27:05 -0400 (Tue, 17 Jun 2025) EndedAt: 2025-06-17 18:27:27 -0400 (Tue, 17 Jun 2025) EllapsedTime: 21.4 seconds RetCode: 0 Status: OK