Package: ggtreeExtra Version: 1.19.0 Maintainer: Shuangbin Xu MaintainerEmail: xshuangbin at 163.com git_url: https://git.bioconductor.org/packages/ggtreeExtra git_branch: devel git_last_commit: 5ca9e0b git_last_commit_date: 2025-04-15 12:05:48 -0400 (Tue, 15 Apr 2025)