Package: ggtree Version: 3.17.0 Command: /home/rapidbuild/bbs-3.22-bioc-rapid/R/bin/R CMD build --keep-empty-dirs --no-resave-data ggtree StartedAt: 2025-06-17 19:01:05 -0400 (Tue, 17 Jun 2025) EndedAt: 2025-06-17 19:01:20 -0400 (Tue, 17 Jun 2025) EllapsedTime: 15.0 seconds RetCode: 0 Status: OK PackageFile: ggtree_3.17.0.tar.gz PackageFileSize: 353.2 KiB