Package: ggtree Version: 3.17.0 Maintainer: Guangchuang Yu MaintainerEmail: guangchuangyu at gmail.com git_url: https://git.bioconductor.org/packages/ggtree git_branch: devel git_last_commit: b5cd053 git_last_commit_date: 2025-04-15 10:37:32 -0400 (Tue, 15 Apr 2025)