Package: flowWorkspace Version: 4.21.0 Command: /home/rapidbuild/bbs-3.22-bioc-rapid/R/bin/R CMD build --keep-empty-dirs --no-resave-data flowWorkspace StartedAt: 2025-06-17 18:55:58 -0400 (Tue, 17 Jun 2025) EndedAt: 2025-06-17 18:58:53 -0400 (Tue, 17 Jun 2025) EllapsedTime: 174.9 seconds RetCode: 0 Status: OK PackageFile: flowWorkspace_4.21.0.tar.gz PackageFileSize: 5.08 MiB