Package: flowCore Version: 2.21.0 Command: /home/rapidbuild/bbs-3.22-bioc-rapid/R/bin/R CMD INSTALL flowCore StartedAt: 2025-06-17 18:12:14 -0400 (Tue, 17 Jun 2025) EndedAt: 2025-06-17 18:12:55 -0400 (Tue, 17 Jun 2025) EllapsedTime: 41.4 seconds RetCode: 0 Status: OK