Package: enrichplot Version: 1.29.1 Command: /home/rapidbuild/bbs-3.22-bioc-rapid/R/bin/R CMD build --keep-empty-dirs --no-resave-data enrichplot StartedAt: 2025-06-17 18:48:06 -0400 (Tue, 17 Jun 2025) EndedAt: 2025-06-17 18:48:28 -0400 (Tue, 17 Jun 2025) EllapsedTime: 22.0 seconds RetCode: 0 Status: OK PackageFile: enrichplot_1.29.1.tar.gz PackageFileSize: 96.57 KiB