Package: csaw Version: 1.43.0 Command: /home/rapidbuild/bbs-3.22-bioc-rapid/R/bin/R CMD INSTALL csaw StartedAt: 2025-06-17 18:24:20 -0400 (Tue, 17 Jun 2025) EndedAt: 2025-06-17 18:25:51 -0400 (Tue, 17 Jun 2025) EllapsedTime: 90.8 seconds RetCode: 0 Status: OK